BEGIN:VCALENDAR
VERSION:2.0
PRODID:-//Tukios.com/
BEGIN:VEVENT
UID:26ed686e-2682-4af4-944f-db9e60c54937@www.prewitts.com
DTSTAMP:20260424T220901Z
DTSTART:20260501T150000Z
DTEND:20260501T160000Z
SUMMARY:Funeral Service
DESCRIPTION:
URL:https://www.prewitts.com/obituaries/henrietta-smith
LOCATION:Main Street Baptist Church Main Street  New Castle KY 40050
GEO:38.4326476;-85.1700587
END:VEVENT
END:VCALENDAR